Workbook
Name 要: [1]參數!$L$2:$L$2
Name 點我選擇組別: [1]參數!$M$3:$M$10
Name 點我選擇項目: [1]參數!$O$3:$O$15

Sheet 1組
D1: =[1]選手名冊!C3 -> 9
C2: 國立員林家商106年度三對三籃球賽一年級女生組 | FR2: =COUNTA($FR$5:$FR$36) -> 9 | FS2: 0
FR3: 一年級女生組 | FT3: 2 | FV3: 1
K4: 參賽隊數共9隊 | FQ4: 順序 | FR4: 班級或隊名 | FS4: 選手姓名 | FU4: 排名
BB5: 數字3代表第3輪 | FQ5: =IF(FS5="","",VLOOKUP(FS5,[1]選手名冊!$C$5:$D$137,2,FALSE)) -> 0 | FR5: 貿一乙 | FS5: 林佳儀 楊宜蓁 陳律蓉 | FU5: =RANK(FT5,$FT$5:$FT$133) -> #N/A
BB6: 英文字母代表場地 | FQ6: =IF(FS6="","",VLOOKUP(FS6,[1]選手名冊!$C$5:$D$137,2,FALSE)) -> 0 | FR6: 成吉思汗 | FS6: 陳茜瑜 謝莉蓁 黃柔瑄 | FU6: =RANK(FT6,$FT$5:$FT$133) -> #N/A
FQ7: =IF(FS7="","",VLOOKUP(FS7,[1]選手名冊!$C$5:$D$137,2,FALSE)) -> 0 | FR7: 覺得不行 | FS7: 翁怡萱 吳佳妮 徐靖琪 | FU7: =RANK(FT7,$FT$5:$FT$133) -> #N/A
FQ8: =IF(FS8="","",VLOOKUP(FS8,[1]選手名冊!$C$5:$D$137,2,FALSE)) -> 0 | FR8: 無敵瘋狗 | FS8: 蕭羽珊 柳采樺 張秀婷 | FU8: =RANK(FT8,$FT$5:$FT$133) -> #N/A
FQ9: =IF(FS9="","",VLOOKUP(FS9,[1]選手名冊!$C$5:$D$137,2,FALSE)) -> 0 | FR9: 小貿丙 | FS9: 陳倩 莊宜美 詹芯瑜 | FU9: =RANK(FT9,$FT$5:$FT$133) -> #N/A
FQ10: =IF(FS10="","",VLOOKUP(FS10,[1]選手名冊!$C$5:$D$137,2,FALSE)) -> 0 | FR10: 肥仔 | FS10: 郭佩樺 林婉庭 王瑩萱 | FU10: =RANK(FT10,$FT$5:$FT$133) -> #N/A
FQ11: =IF(FS11="","",VLOOKUP(FS11,[1]選手名冊!$C$5:$D$137,2,FALSE)) -> 0 | FR11: 阮月嬌 | FS11: 張筑珺 唐以軒 黃宥甄 | FU11: =RANK(FT11,$FT$5:$FT$133) -> #N/A
FQ12: =IF(FS12="","",VLOOKUP(FS12,[1]選手名冊!$C$5:$D$137,2,FALSE)) -> 0 | FR12: 三劍客 | FS12: 劉慈昤 陳宥汝 王玟璇 | FU12: =RANK(FT12,$FT$5:$FT$133) -> #N/A
FQ13: =IF(FS13="","",VLOOKUP(FS13,[1]選手名冊!$C$5:$D$137,2,FALSE)) -> 0 | FR13: 幼甲三寶 | FS13: 詹芷瑄 蕭彩蘋 柳心云 | FU13: =RANK(FT13,$FT$5:$FT$133) -> #N/A
FQ14: =IF(FS14="","",VLOOKUP(FS14,[1]選手名冊!$C$5:$D$137,2,FALSE)) | FU14: =RANK(FT14,$FT$5:$FT$133) -> #N/A
FQ15: =IF(FS15="","",VLOOKUP(FS15,[1]選手名冊!$C$5:$D$137,2,FALSE)) | FU15: =RANK(FT15,$FT$5:$FT$133) -> #N/A
FQ16: =IF(FS16="","",VLOOKUP(FS16,[1]選手名冊!$C$5:$D$137,2,FALSE)) | FU16: =RANK(FT16,$FT$5:$FT$133) -> #N/A
FQ17: =IF(FS17="","",VLOOKUP(FS17,[1]選手名冊!$C$5:$D$137,2,FALSE)) | FU17: =RANK(FT17,$FT$5:$FT$133) -> #N/A
FQ18: =IF(FS18="","",VLOOKUP(FS18,[1]選手名冊!$C$5:$D$137,2,FALSE)) | FU18: =RANK(FT18,$FT$5:$FT$133) -> #N/A
FQ19: =IF(FS19="","",VLOOKUP(FS19,[1]選手名冊!$C$5:$D$137,2,FALSE)) | FU19: =RANK(FT19,$FT$5:$FT$133) -> #N/A
FQ20: =IF(FS20="","",VLOOKUP(FS20,[1]選手名冊!$C$5:$D$137,2,FALSE)) | FU20: =RANK(FT20,$FT$5:$FT$133) -> #N/A
FQ21: =IF(FS21="","",VLOOKUP(FS21,[1]選手名冊!$C$5:$D$137,2,FALSE)) | FU21: =RANK(FT21,$FT$5:$FT$133) -> #N/A
FQ22: =IF(FS22="","",VLOOKUP(FS22,[1]選手名冊!$C$5:$D$137,2,FALSE)) | FU22: =RANK(FT22,$FT$5:$FT$133) -> #N/A
FQ23: =IF(FS23="","",VLOOKUP(FS23,[1]選手名冊!$C$5:$D$137,2,FALSE)) | FU23: =RANK(FT23,$FT$5:$FT$133) -> #N/A
C24: 貿一乙 | K24: 幼甲三寶 | Q24: 三劍客 | S24: 小貿丙 | AG24: 無敵瘋狗 | AI24: 覺得不行 | AW24: 肥仔 | AY24: 阮月嬌 | BM24: 成吉思汗 | FQ24: =IF(FS24="","",VLOOKUP(FS24,[1]選手名冊!$C$5:$D$137,2,FALSE)) | FU24: =RANK(FT24,$FT$5:$FT$133) -> #N/A
C25: 林佳儀 楊宜蓁 陳律蓉 | K25: 詹芷瑄 蕭彩蘋 柳心云 | Q25: 劉慈昤 陳宥汝 王玟璇 | S25: 陳倩 莊宜美 詹芯瑜 | AG25: 蕭羽珊 柳采樺 張秀婷 | AI25: 翁怡萱 吳佳妮 徐靖琪 | AW25: 郭佩樺 林婉庭 王瑩萱 | AY25: 張筑珺 唐以軒 黃宥甄 | BM25: 陳茜瑜 謝莉蓁 黃柔瑄 | FQ25: =IF(FS25="","",VLOOKUP(FS25,[1]選手名冊!$C$5:$D$137,2,FALSE)) | FU25: =RANK(FT25,$FT$5:$FT$133) -> #N/A
K26: 3 | AG26: 1 | AY26: 2 | FQ26: =IF(FS26="","",VLOOKUP(FS26,[1]選手名冊!$C$5:$D$137,2,FALSE)) | FU26: =RANK(FT26,$FT$5:$FT$133) -> #N/A
FQ27: =IF(FS27="","",VLOOKUP(FS27,[1]選手名冊!$C$5:$D$137,2,FALSE)) | FU27: =RANK(FT27,$FT$5:$FT$133) -> #N/A
FQ28: =IF(FS28="","",VLOOKUP(FS28,[1]選手名冊!$C$5:$D$137,2,FALSE)) | FU28: =RANK(FT28,$FT$5:$FT$133) -> #N/A
FQ29: =IF(FS29="","",VLOOKUP(FS29,[1]選手名冊!$C$5:$D$137,2,FALSE)) | FU29: =RANK(FT29,$FT$5:$FT$133) -> #N/A
FQ30: =IF(FS30="","",VLOOKUP(FS30,[1]選手名冊!$C$5:$D$137,2,FALSE)) | FU30: =RANK(FT30,$FT$5:$FT$133) -> #N/A
FQ31: =IF(FS31="","",VLOOKUP(FS31,[1]選手名冊!$C$5:$D$137,2,FALSE)) | FU31: =RANK(FT31,$FT$5:$FT$133) -> #N/A
FQ32: =IF(FS32="","",VLOOKUP(FS32,[1]選手名冊!$C$5:$D$137,2,FALSE))
FQ33: =IF(FS33="","",VLOOKUP(FS33,[1]選手名冊!$C$5:$D$137,2,FALSE))
FQ34: =IF(FS34="","",VLOOKUP(FS34,[1]選手名冊!$C$5:$D$137,2,FALSE))
FQ35: =IF(FS35="","",VLOOKUP(FS35,[1]選手名冊!$C$5:$D$137,2,FALSE))
FQ36: =IF(FS36="","",VLOOKUP(FS36,[1]選手名冊!$C$5:$D$137,2,FALSE))
FQ37: =IF(FS37="","",VLOOKUP(FS37,[1]選手名冊!$C$5:$D$137,2,FALSE))
FQ38: =IF(FS38="","",VLOOKUP(FS38,[1]選手名冊!$C$5:$D$137,2,FALSE))
FQ39: =IF(FS39="","",VLOOKUP(FS39,[1]選手名冊!$C$5:$D$137,2,FALSE))
FQ40: =IF(FS40="","",VLOOKUP(FS40,[1]選手名冊!$C$5:$D$137,2,FALSE))
FQ41: =IF(FS41="","",VLOOKUP(FS41,[1]選手名冊!$C$5:$D$137,2,FALSE))
FQ42: =IF(FS42="","",VLOOKUP(FS42,[1]選手名冊!$C$5:$D$137,2,FALSE))
FQ43: =IF(FS43="","",VLOOKUP(FS43,[1]選手名冊!$C$5:$D$137,2,FALSE))
... FQ145: =IF(FS145="","",VLOOKUP(FS145,[1]選手名冊!$C$5:$D$137,2,FALSE))
C323: 1 | E323: 32 | G323: 17 | I323: 16 | K323: 9 | M323: 24 | O323: 25 | Q323: 8 | S323: 5 | U323: 28 | W323: 21 | Y323: 12 | AA323: 13 | AC323: 20 | AE323: 29 | AG323: 4 | AI323: 3 | AK323: 30 | AM323: 19 | AO323: 14 | AQ323: 11 | AS323: 22 | AU323: 27 | AW323: 6 | AY323: 7 | BA323: 26 | BC323: 23 | BE323: 10 | BG323: 15 | BI323: 18 | BK323: 31 | BM323: 2
C324: 1 | E324: 128 | G324: 65 | I324: 64 | K324: 33 | M324: 96 | O324: 97 | Q324: 32 | S324: 17 | U324: 112 | W324: 81 | Y324: 48 | AA324: 49 | AC324: 80 | AE324: 113 | AG324: 16 | AI324: 9 | AK324: 120 | AM324: 73 | AO324: 56 | AQ324: 41 | AS324: 88 | AU324: 105 | AW324: 24 | AY324: 25 | BA324: 104 | BC324: 89 | BE324: 40 | BG324: 57 | BI324: 72 | BK324: 121 | BM324: 8 | BO324: 5 | BQ324: 124 | BS324: 69 | BU324: 60 | BW324: 37 | BY324: 92 | CA324: 101 | CC324: 28 | CE324: 21 | CG324: 108 | CI324: 85 | CK324: 44 | CM324: 53 | CO324: 76 | CQ324: 117 | CS324: 12 | CU324: 13 | CW324: 116 | CY324: 77 | DA324: 52 | DC324: 45 | DE324: 84 | DG324: 109 | DI324: 20 | DK324: 29 | DM324: 100 | DO324: 93 | DQ324: 36 | DS324: 61 | DU324: 68 | DW324: 125 | DY324: 4
C325: 2 | E325: 127 | G325: 66 | I325: 63 | K325: 34 | M325: 95 | O325: 98 | Q325: 31 | S325: 18 | U325: 111 | W325: 82 | Y325: 47 | AA325: 50 | AC325: 79 | AE325: 114 | AG325: 15 | AI325: 10 | AK325: 119 | AM325: 74 | AO325: 55 | AQ325: 42 | AS325: 87 | AU325: 106 | AW325: 23 | AY325: 26 | BA325: 103 | BC325: 90 | BE325: 39 | BG325: 58 | BI325: 71 | BK325: 122 | BM325: 7 | BO325: 6 | BQ325: 123 | BS325: 70 | BU325: 59 | BW325: 38 | BY325: 91 | CA325: 102 | CC325: 27 | CE325: 22 | CG325: 107 | CI325: 86 | CK325: 43 | CM325: 54 | CO325: 75 | CQ325: 118 | CS325: 11 | CU325: 14 | CW325: 115 | CY325: 78 | DA325: 51 | DC325: 46 | DE325: 83 | DG325: 110 | DI325: 19 | DK325: 30 | DM325: 99 | DO325: 94 | DQ325: 35 | DS325: 62 | DU325: 67 | DW325: 126 | DY325: 3
C327: 1 | E327: 16 | G327: 9 | I327: 8 | K327: 5 | M327: 12 | O327: 13 | Q327: 4 | S327: 3 | U327: 14 | W327: 11 | Y327: 6 | AA327: 7 | AC327: 10 | AE327: 15 | AG327: 2
C328: 1 | E328: 64 | G328: 33 | I328: 32 | K328: 17 | M328: 48 | O328: 49 | Q328: 16 | S328: 9 | U328: 56 | W328: 41 | Y328: 24 | AA328: 25 | AC328: 40 | AE328: 57 | AG328: 8 | AI328: 5 | AK328: 60 | AM328: 37 | AO328: 28 | AQ328: 21 | AS328: 44 | AU328: 53 | AW328: 12 | AY328: 13 | BA328: 52 | BC328: 45 | BE328: 20 | BG328: 29 | BI328: 36 | BK328: 61 | BM328: 4 | BO328: 3 | BQ328: 62 | BS328: 35 | BU328: 30 | BW328: 19 | BY328: 46 | CA328: 51 | CC328: 14 | CE328: 11 | CG328: 54 | CI328: 43 | CK328: 22 | CM328: 27 | CO328: 38 | CQ328: 59 | CS328: 6 | CU328: 7 | CW328: 58 | CY328: 39 | DA328: 26 | DC328: 23 | DE328: 42 | DG328: 55 | DI328: 10 | DK328: 15 | DM328: 50 | DO328: 47 | DQ328: 18 | DS328: 31 | DU328: 34 | DW328: 63 | DY328: 2

Sheet 2組
D1: =[1]選手名冊!IO3 -> 0
C2: 國立員林家商106年度三對三籃球賽二年級女生組 | FR2: =COUNTA($FR$5:$FR$36) -> 10 | FS2: 0
FR3: 二年級女生組 | FT3: 2 | FV3: 1
K4: 參賽隊數共10隊 | FQ4: 順序 | FR4: 班級或隊名 | FS4: 選手姓名 | FU4: 排名
BC5: 數字3代表第3輪 | FQ5: =IF(FS5="","",VLOOKUP(FS5,[1]選手名冊!$M$5:$N$137,2,FALSE)) -> 1 | FR5: 小淘氣 | FS5: 許詩筠 許芯維 陳宜伶 | FU5: =RANK(FT5,$FT$5:$FT$133) -> #N/A
BC6: 英文字母代表場地 | FQ6: =IF(FS6="","",VLOOKUP(FS6,[1]選手名冊!$M$5:$N$137,2,FALSE)) -> 2 | FR6: 查無此隊 | FS6: 歐采穎 蕭聿晴 朱俐綺 | FU6: =RANK(FT6,$FT$5:$FT$133) -> #N/A
FQ7: =IF(FS7="","",VLOOKUP(FS7,[1]選手名冊!$M$5:$N$137,2,FALSE)) -> 3 | FR7: 太陽丙 | FS7: 陳詠晴 黃鈺真 李珮軒 | FU7: =RANK(FT7,$FT$5:$FT$133) -> #N/A
FQ8: =IF(FS8="","",VLOOKUP(FS8,[1]選手名冊!$M$5:$N$137,2,FALSE)) -> 4 | FR8: 神力女人 | FS8: 呂易澐 李姿嫻 賴莘雅 | FU8: =RANK(FT8,$FT$5:$FT$133) -> #N/A
FQ9: =IF(FS9="","",VLOOKUP(FS9,[1]選手名冊!$M$5:$N$137,2,FALSE)) -> 0 | FR9: 燴飯加鹽 | FS9: 李欣玫 顏嘉慧 周品斈 | FU9: =RANK(FT9,$FT$5:$FT$133) -> #N/A
FQ10: =IF(FS10="","",VLOOKUP(FS10,[1]選手名冊!$M$5:$N$137,2,FALSE)) -> 0 | FR10: Bang | FS10: 張宇鴒 陳律淇 張譯云 | FU10: =RANK(FT10,$FT$5:$FT$133) -> #N/A
FQ11: =IF(FS11="","",VLOOKUP(FS11,[1]選手名冊!$M$5:$N$137,2,FALSE)) -> 0 | FR11: 北京烤鴨 | FS11: 呂怡蓁 吳佩璇 黃關關 | FU11: =RANK(FT11,$FT$5:$FT$133) -> #N/A
FQ12: =IF(FS12="","",VLOOKUP(FS12,[1]選手名冊!$M$5:$N$137,2,FALSE)) -> 0 | FR12: 溫刀底隊 | FS12: 劉于瑄 賴韋霓 盧紫瑜
FQ13: =IF(FS13="","",VLOOKUP(FS13,[1]選手名冊!$M$5:$N$137,2,FALSE)) -> 0 | FR13: 起來嗨 | FS13: 蔡宣瑋 蔡品宣 蘇亨汝
FQ14: =IF(FS14="","",VLOOKUP(FS14,[1]選手名冊!$M$5:$N$137,2,FALSE)) -> 0 | FR14: 平底鍋 | FS14: 何欣瑀 郭泳妤 黃靜宜
FQ15: =IF(FS15="","",VLOOKUP(FS15,[1]選手名冊!$M$5:$N$137,2,FALSE))
FQ16: =IF(FS16="","",VLOOKUP(FS16,[1]選手名冊!$M$5:$N$137,2,FALSE))
FQ17: =IF(FS17="","",VLOOKUP(FS17,[1]選手名冊!$M$5:$N$137,2,FALSE))
FQ18: =IF(FS18="","",VLOOKUP(FS18,[1]選手名冊!$M$5:$N$137,2,FALSE))
FQ19: =IF(FS19="","",VLOOKUP(FS19,[1]選手名冊!$M$5:$N$137,2,FALSE))
FQ20: =IF(FS20="","",VLOOKUP(FS20,[1]選手名冊!$M$5:$N$137,2,FALSE))
FQ21: =IF(FS21="","",VLOOKUP(FS21,[1]選手名冊!$M$5:$N$137,2,FALSE))
FQ22: =IF(FS22="","",VLOOKUP(FS22,[1]選手名冊!$M$5:$N$137,2,FALSE))
FQ23: =IF(FS23="","",VLOOKUP(FS23,[1]選手名冊!$M$5:$N$137,2,FALSE))
C24: 小淘氣 | K24: 起來嗨 | Q24: 溫刀底隊 | S24: 燴飯加鹽 | AG24: 神力女人 | AI24: 太陽丙 | AW24: Bang | AY24: 北京烤鴨 | BE24: 平底鍋 | BM24: 查無此隊 | FQ24: =IF(FS24="","",VLOOKUP(FS24,[1]選手名冊!$M$5:$N$137,2,FALSE))
C25: 許詩筠 許芯維 陳宜伶 | K25: 蔡宣瑋 蔡品宣 蘇亨汝 | Q25: 劉于瑄 賴韋霓 盧紫瑜 | S25: 李欣玫 顏嘉慧 周品斈 | AG25: 呂易澐 李姿嫻 賴莘雅 | AI25: 陳詠晴 黃鈺真 李珮軒 | AW25: 張宇鴒 陳律淇 張譯云 | AY25: 呂怡蓁 吳佩璇 黃關關 | BE25: 何欣瑀 郭泳妤 黃靜宜 | BM25: 歐采穎 蕭聿晴 朱俐綺 | FQ25: =IF(FS25="","",VLOOKUP(FS25,[1]選手名冊!$M$5:$N$137,2,FALSE))
C26: 1 | AG26: 4 | AW26: 2 | BE26: 3 | FQ26: =IF(FS26="","",VLOOKUP(FS26,[1]選手名冊!$M$5:$N$137,2,FALSE))
FQ27: =IF(FS27="","",VLOOKUP(FS27,[1]選手名冊!$M$5:$N$137,2,FALSE))
FQ28: =IF(FS28="","",VLOOKUP(FS28,[1]選手名冊!$M$5:$N$137,2,FALSE))
FQ29: =IF(FS29="","",VLOOKUP(FS29,[1]選手名冊!$M$5:$N$137,2,FALSE))
FQ30: =IF(FS30="","",VLOOKUP(FS30,[1]選手名冊!$M$5:$N$137,2,FALSE))
FQ31: =IF(FS31="","",VLOOKUP(FS31,[1]選手名冊!$M$5:$N$137,2,FALSE))
FQ32: =IF(FS32="","",VLOOKUP(FS32,[1]選手名冊!$M$5:$N$137,2,FALSE))
FQ33: =IF(FS33="","",VLOOKUP(FS33,[1]選手名冊!$M$5:$N$137,2,FALSE))
FQ34: =IF(FS34="","",VLOOKUP(FS34,[1]選手名冊!$M$5:$N$137,2,FALSE))
FQ35: =IF(FS35="","",VLOOKUP(FS35,[1]選手名冊!$M$5:$N$137,2,FALSE))
FQ36: =IF(FS36="","",VLOOKUP(FS36,[1]選手名冊!$M$5:$N$137,2,FALSE))
FQ37: =IF(FS37="","",VLOOKUP(FS37,[1]選手名冊!$M$5:$N$137,2,FALSE))
FQ38: =IF(FS38="","",VLOOKUP(FS38,[1]選手名冊!$M$5:$N$137,2,FALSE))
... FQ138: =IF(FS138="","",VLOOKUP(FS138,[1]選手名冊!$M$5:$N$137,2,FALSE))
FQ139: =IF(FS139="","",VLOOKUP(FS139,[1]選手名冊!$C$5:$D$137,2,FALSE))
FQ140: =IF(FS140="","",VLOOKUP(FS140,[1]選手名冊!$C$5:$D$137,2,FALSE))
FQ141: =IF(FS141="","",VLOOKUP(FS141,[1]選手名冊!$C$5:$D$137,2,FALSE))
FQ142: =IF(FS142="","",VLOOKUP(FS142,[1]選手名冊!$C$5:$D$137,2,FALSE))
FQ143: =IF(FS143="","",VLOOKUP(FS143,[1]選手名冊!$C$5:$D$137,2,FALSE))
FQ144: =IF(FS144="","",VLOOKUP(FS144,[1]選手名冊!$C$5:$D$137,2,FALSE))
FQ145: =IF(FS145="","",VLOOKUP(FS145,[1]選手名冊!$C$5:$D$137,2,FALSE))
C323: 1 | E323: 32 | G323: 17 | I323: 16 | K323: 9 | M323: 24 | O323: 25 | Q323: 8 | S323: 5 | U323: 28 | W323: 21 | Y323: 12 | AA323: 13 | AC323: 20 | AE323: 29 | AG323: 4 | AI323: 3 | AK323: 30 | AM323: 19 | AO323: 14 | AQ323: 11 | AS323: 22 | AU323: 27 | AW323: 6 | AY323: 7 | BA323: 26 | BC323: 23 | BE323: 10 | BG323: 15 | BI323: 18 | BK323: 31 | BM323: 2
C324: 1 | E324: 128 | G324: 65 | I324: 64 | K324: 33 | M324: 96 | O324: 97 | Q324: 32 | S324: 17 | U324: 112 | W324: 81 | Y324: 48 | AA324: 49 | AC324: 80 | AE324: 113 | AG324: 16 | AI324: 9 | AK324: 120 | AM324: 73 | AO324: 56 | AQ324: 41 | AS324: 88 | AU324: 105 | AW324: 24 | AY324: 25 | BA324: 104 | BC324: 89 | BE324: 40 | BG324: 57 | BI324: 72 | BK324: 121 | BM324: 8 | BO324: 5 | BQ324: 124 | BS324: 69 | BU324: 60 | BW324: 37 | BY324: 92 | CA324: 101 | CC324: 28 | CE324: 21 | CG324: 108 | CI324: 85 | CK324: 44 | CM324: 53 | CO324: 76 | CQ324: 117 | CS324: 12 | CU324: 13 | CW324: 116 | CY324: 77 | DA324: 52 | DC324: 45 | DE324: 84 | DG324: 109 | DI324: 20 | DK324: 29 | DM324: 100 | DO324: 93 | DQ324: 36 | DS324: 61 | DU324: 68 | DW324: 125 | DY324: 4
C325: 2 | E325: 127 | G325: 66 | I325: 63 | K325: 34 | M325: 95 | O325: 98 | Q325: 31 | S325: 18 | U325: 111 | W325: 82 | Y325: 47 | AA325: 50 | AC325: 79 | AE325: 114 | AG325: 15 | AI325: 10 | AK325: 119 | AM325: 74 | AO325: 55 | AQ325: 42 | AS325: 87 | AU325: 106 | AW325: 23 | AY325: 26 | BA325: 103 | BC325: 90 | BE325: 39 | BG325: 58 | BI325: 71 | BK325: 122 | BM325: 7 | BO325: 6 | BQ325: 123 | BS325: 70 | BU325: 59 | BW325: 38 | BY325: 91 | CA325: 102 | CC325: 27 | CE325: 22 | CG325: 107 | CI325: 86 | CK325: 43 | CM325: 54 | CO325: 75 | CQ325: 118 | CS325: 11 | CU325: 14 | CW325: 115 | CY325: 78 | DA325: 51 | DC325: 46 | DE325: 83 | DG325: 110 | DI325: 19 | DK325: 30 | DM325: 99 | DO325: 94 | DQ325: 35 | DS325: 62 | DU325: 67 | DW325: 126 | DY325: 3
C327: 1 | E327: 16 | G327: 9 | I327: 8 | K327: 5 | M327: 12 | O327: 13 | Q327: 4 | S327: 3 | U327: 14 | W327: 11 | Y327: 6 | AA327: 7 | AC327: 10 | AE327: 15 | AG327: 2
C328: 1 | E328: 64 | G328: 33 | I328: 32 | K328: 17 | M328: 48 | O328: 49 | Q328: 16 | S328: 9 | U328: 56 | W328: 41 | Y328: 24 | AA328: 25 | AC328: 40 | AE328: 57 | AG328: 8 | AI328: 5 | AK328: 60 | AM328: 37 | AO328: 28 | AQ328: 21 | AS328: 44 | AU328: 53 | AW328: 12 | AY328: 13 | BA328: 52 | BC328: 45 | BE328: 20 | BG328: 29 | BI328: 36 | BK328: 61 | BM328: 4 | BO328: 3 | BQ328: 62 | BS328: 35 | BU328: 30 | BW328: 19 | BY328: 46 | CA328: 51 | CC328: 14 | CE328: 11 | CG328: 54 | CI328: 43 | CK328: 22 | CM328: 27 | CO328: 38 | CQ328: 59 | CS328: 6 | CU328: 7 | CW328: 58 | CY328: 39 | DA328: 26 | DC328: 23 | DE328: 42 | DG328: 55 | DI328: 10 | DK328: 15 | DM328: 50 | DO328: 47 | DQ328: 18 | DS328: 31 | DU328: 34 | DW328: 63 | DY328: 2

Sheet 3組
D1: =[1]選手名冊!IE3 -> 0
C2: 國立員林家商106年度三對三籃球賽三年級女生組 | FR2: =COUNTA($FR$5:$FR$36) -> 6 | FS2: 0
FR3: 三年級女生組 | FT3: 2 | FV3: 1
K4: 參賽隊數共6隊 | FQ4: 順序 | FR4: 班級或隊名 | FS4: 選手姓名 | FU4: 排名
BC5: 數字3代表第3輪 | FQ5: =IF(FS5="","",VLOOKUP(FS5,[1]選手名冊!$W$5:$X$137,2,FALSE)) -> 1 | FR5: T字帳 | FS5: 吳玫珍 黃儀婷 郭佩珺 | FU5: =RANK(FT5,$FT$5:$FT$133) -> #N/A
BC6: 英文字母代表場地 | FQ6: =IF(FS6="","",VLOOKUP(FS6,[1]選手名冊!$W$5:$X$137,2,FALSE)) -> 2 | FR6: Dou盜 | FS6: 江玟豫 林苡儒 許喬壹 | FU6: =RANK(FT6,$FT$5:$FT$133) -> #N/A
FQ7: =IF(FS7="","",VLOOKUP(FS7,[1]選手名冊!$W$5:$X$137,2,FALSE)) -> 0 | FR7: 無名組合 | FS7: 張瑋庭 林俐菁 楊琇雯 | FU7: =RANK(FT7,$FT$5:$FT$133) -> #N/A
FQ8: =IF(FS8="","",VLOOKUP(FS8,[1]選手名冊!$W$5:$X$137,2,FALSE)) -> 0 | FR8: 叫我八七 | FS8: 許庭蓁 吳柔薇 陳依萱 | FU8: =RANK(FT8,$FT$5:$FT$133) -> #N/A
FQ9: =IF(FS9="","",VLOOKUP(FS9,[1]選手名冊!$W$5:$X$137,2,FALSE)) -> 0 | FR9: 勒是霧都 | FS9: 陳憶婷 洪婕馨 梁珮昀 | FU9: =RANK(FT9,$FT$5:$FT$133) -> #N/A
FQ10: =IF(FS10="","",VLOOKUP(FS10,[1]選手名冊!$W$5:$X$137,2,FALSE)) -> 0 | FR10: 美顏科科 | FS10: 陳泱璇 賴雅瑄 蘇文暄 | FU10: =RANK(FT10,$FT$5:$FT$133) -> #N/A
FQ11: =IF(FS11="","",VLOOKUP(FS11,[1]選手名冊!$W$5:$X$137,2,FALSE)) | FU11: =RANK(FT11,$FT$5:$FT$133) -> #N/A
FQ12: =IF(FS12="","",VLOOKUP(FS12,[1]選手名冊!$W$5:$X$137,2,FALSE)) | FU12: =RANK(FT12,$FT$5:$FT$133) -> #N/A
FQ13: =IF(FS13="","",VLOOKUP(FS13,[1]選手名冊!$W$5:$X$137,2,FALSE))
FQ14: =IF(FS14="","",VLOOKUP(FS14,[1]選手名冊!$W$5:$X$137,2,FALSE))
FQ15: =IF(FS15="","",VLOOKUP(FS15,[1]選手名冊!$W$5:$X$137,2,FALSE))
FQ16: =IF(FS16="","",VLOOKUP(FS16,[1]選手名冊!$W$5:$X$137,2,FALSE))
FQ17: =IF(FS17="","",VLOOKUP(FS17,[1]選手名冊!$W$5:$X$137,2,FALSE))
FQ18: =IF(FS18="","",VLOOKUP(FS18,[1]選手名冊!$W$5:$X$137,2,FALSE))
FQ19: =IF(FS19="","",VLOOKUP(FS19,[1]選手名冊!$W$5:$X$137,2,FALSE))
FQ20: =IF(FS20="","",VLOOKUP(FS20,[1]選手名冊!$W$5:$X$137,2,FALSE))
FQ21: =IF(FS21="","",VLOOKUP(FS21,[1]選手名冊!$W$5:$X$137,2,FALSE))
FQ22: =IF(FS22="","",VLOOKUP(FS22,[1]選手名冊!$W$5:$X$137,2,FALSE))
FQ23: =IF(FS23="","",VLOOKUP(FS23,[1]選手名冊!$W$5:$X$137,2,FALSE))
C24: T字帳 | S24: 勒是霧都 | AG24: 叫我八七 | AI24: 無名組合 | AW24: 美顏科科 | BM24: Dou盜 | FQ24: =IF(FS24="","",VLOOKUP(FS24,[1]選手名冊!$W$5:$X$137,2,FALSE))
C25: 吳玫珍 黃儀婷 郭佩珺 | S25: 陳憶婷 洪婕馨 梁珮昀 | AG25: 許庭蓁 吳柔薇 陳依萱 | AI25: 張瑋庭 林俐菁 楊琇雯 | AW25: 陳泱璇 賴雅瑄 蘇文暄 | BM25: 江玟豫 林苡儒 許喬壹 | FQ25: =IF(FS25="","",VLOOKUP(FS25,[1]選手名冊!$W$5:$X$137,2,FALSE))
C26: 2 | AG26: 3 | AI26: 4 | BM26: 1 | FQ26: =IF(FS26="","",VLOOKUP(FS26,[1]選手名冊!$W$5:$X$137,2,FALSE))
FQ27: =IF(FS27="","",VLOOKUP(FS27,[1]選手名冊!$W$5:$X$137,2,FALSE))
FQ28: =IF(FS28="","",VLOOKUP(FS28,[1]選手名冊!$W$5:$X$137,2,FALSE))
FQ29: =IF(FS29="","",VLOOKUP(FS29,[1]選手名冊!$W$5:$X$137,2,FALSE))
FQ30: =IF(FS30="","",VLOOKUP(FS30,[1]選手名冊!$W$5:$X$137,2,FALSE))
FQ31: =IF(FS31="","",VLOOKUP(FS31,[1]選手名冊!$W$5:$X$137,2,FALSE))
FQ32: =IF(FS32="","",VLOOKUP(FS32,[1]選手名冊!$W$5:$X$137,2,FALSE))
FQ33: =IF(FS33="","",VLOOKUP(FS33,[1]選手名冊!$W$5:$X$137,2,FALSE))
FQ34: =IF(FS34="","",VLOOKUP(FS34,[1]選手名冊!$W$5:$X$137,2,FALSE))
FQ35: =IF(FS35="","",VLOOKUP(FS35,[1]選手名冊!$W$5:$X$137,2,FALSE))
FQ36: =IF(FS36="","",VLOOKUP(FS36,[1]選手名冊!$W$5:$X$137,2,FALSE))
FQ37: =IF(FS37="","",VLOOKUP(FS37,[1]選手名冊!$W$5:$X$137,2,FALSE))
FQ38: =IF(FS38="","",VLOOKUP(FS38,[1]選手名冊!$W$5:$X$137,2,FALSE))
... FQ139: =IF(FS139="","",VLOOKUP(FS139,[1]選手名冊!$W$5:$X$137,2,FALSE))
FQ140: =IF(FS140="","",VLOOKUP(FS140,[1]選手名冊!$C$5:$D$137,2,FALSE))
FQ141: =IF(FS141="","",VLOOKUP(FS141,[1]選手名冊!$C$5:$D$137,2,FALSE))
FQ142: =IF(FS142="","",VLOOKUP(FS142,[1]選手名冊!$C$5:$D$137,2,FALSE))
FQ143: =IF(FS143="","",VLOOKUP(FS143,[1]選手名冊!$C$5:$D$137,2,FALSE))
FQ144: =IF(FS144="","",VLOOKUP(FS144,[1]選手名冊!$C$5:$D$137,2,FALSE))
FQ145: =IF(FS145="","",VLOOKUP(FS145,[1]選手名冊!$C$5:$D$137,2,FALSE))
C323: 1 | E323: 32 | G323: 17 | I323: 16 | K323: 9 | M323: 24 | O323: 25 | Q323: 8 | S323: 5 | U323: 28 | W323: 21 | Y323: 12 | AA323: 13 | AC323: 20 | AE323: 29 | AG323: 4 | AI323: 3 | AK323: 30 | AM323: 19 | AO323: 14 | AQ323: 11 | AS323: 22 | AU323: 27 | AW323: 6 | AY323: 7 | BA323: 26 | BC323: 23 | BE323: 10 | BG323: 15 | BI323: 18 | BK323: 31 | BM323: 2
C324: 1 | E324: 128 | G324: 65 | I324: 64 | K324: 33 | M324: 96 | O324: 97 | Q324: 32 | S324: 17 | U324: 112 | W324: 81 | Y324: 48 | AA324: 49 | AC324: 80 | AE324: 113 | AG324: 16 | AI324: 9 | AK324: 120 | AM324: 73 | AO324: 56 | AQ324: 41 | AS324: 88 | AU324: 105 | AW324: 24 | AY324: 25 | BA324: 104 | BC324: 89 | BE324: 40 | BG324: 57 | BI324: 72 | BK324: 121 | BM324: 8 | BO324: 5 | BQ324: 124 | BS324: 69 | BU324: 60 | BW324: 37 | BY324: 92 | CA324: 101 | CC324: 28 | CE324: 21 | CG324: 108 | CI324: 85 | CK324: 44 | CM324: 53 | CO324: 76 | CQ324: 117 | CS324: 12 | CU324: 13 | CW324: 116 | CY324: 77 | DA324: 52 | DC324: 45 | DE324: 84 | DG324: 109 | DI324: 20 | DK324: 29 | DM324: 100 | DO324: 93 | DQ324: 36 | DS324: 61 | DU324: 68 | DW324: 125 | DY324: 4
C325: 2 | E325: 127 | G325: 66 | I325: 63 | K325: 34 | M325: 95 | O325: 98 | Q325: 31 | S325: 18 | U325: 111 | W325: 82 | Y325: 47 | AA325: 50 | AC325: 79 | AE325: 114 | AG325: 15 | AI325: 10 | AK325: 119 | AM325: 74 | AO325: 55 | AQ325: 42 | AS325: 87 | AU325: 106 | AW325: 23 | AY325: 26 | BA325: 103 | BC325: 90 | BE325: 39 | BG325: 58 | BI325: 71 | BK325: 122 | BM325: 7 | BO325: 6 | BQ325: 123 | BS325: 70 | BU325: 59 | BW325: 38 | BY325: 91 | CA325: 102 | CC325: 27 | CE325: 22 | CG325: 107 | CI325: 86 | CK325: 43 | CM325: 54 | CO325: 75 | CQ325: 118 | CS325: 11 | CU325: 14 | CW325: 115 | CY325: 78 | DA325: 51 | DC325: 46 | DE325: 83 | DG325: 110 | DI325: 19 | DK325: 30 | DM325: 99 | DO325: 94 | DQ325: 35 | DS325: 62 | DU325: 67 | DW325: 126 | DY325: 3
C327: 1 | E327: 16 | G327: 9 | I327: 8 | K327: 5 | M327: 12 | O327: 13 | Q327: 4 | S327: 3 | U327: 14 | W327: 11 | Y327: 6 | AA327: 7 | AC327: 10 | AE327: 15 | AG327: 2
C328: 1 | E328: 64 | G328: 33 | I328: 32 | K328: 17 | M328: 48 | O328: 49 | Q328: 16 | S328: 9 | U328: 56 | W328: 41 | Y328: 24 | AA328: 25 | AC328: 40 | AE328: 57 | AG328: 8 | AI328: 5 | AK328: 60 | AM328: 37 | AO328: 28 | AQ328: 21 | AS328: 44 | AU328: 53 | AW328: 12 | AY328: 13 | BA328: 52 | BC328: 45 | BE328: 20 | BG328: 29 | BI328: 36 | BK328: 61 | BM328: 4 | BO328: 3 | BQ328: 62 | BS328: 35 | BU328: 30 | BW328: 19 | BY328: 46 | CA328: 51 | CC328: 14 | CE328: 11 | CG328: 54 | CI328: 43 | CK328: 22 | CM328: 27 | CO328: 38 | CQ328: 59 | CS328: 6 | CU328: 7 | CW328: 58 | CY328: 39 | DA328: 26 | DC328: 23 | DE328: 42 | DG328: 55 | DI328: 10 | DK328: 15 | DM328: 50 | DO328: 47 | DQ328: 18 | DS328: 31 | DU328: 34 | DW328: 63 | DY328: 2

Sheet 4組
D1: =[1]選手名冊!HU3 -> 0
C2: 國立員林家商106年度三對三籃球賽全校男生組 | FR2: =COUNTA($FR$5:$FR$36) -> 17 | FS2: 0
FR3: 全校男生組 | FT3: 2 | FV3: 1
K4: 參賽隊數共17隊 | FQ4: 順序 | FR4: 班級或隊名 | FS4: 選手姓名 | FU4: 排名
BC5: 數字3代表第3輪 | FQ5: =IF(FS5="","",VLOOKUP(FS5,[1]選手名冊!$AG$5:$AH$137,2,FALSE)) -> 1 | FR5: 行雲流水 | FS5: 廖泊瑄 池育瑋 黃國晉 | FU5: =RANK(FT5,$FT$5:$FT$133) -> #N/A
BC6: 英文字母代表場地 | FQ6: =IF(FS6="","",VLOOKUP(FS6,[1]選手名冊!$AG$5:$AH$137,2,FALSE)) -> 2 | FR6: 統一發票 | FS6: 黃子錡 施佑委 魏辰安 | FU6: =RANK(FT6,$FT$5:$FT$133) -> #N/A
FQ7: =IF(FS7="","",VLOOKUP(FS7,[1]選手名冊!$AG$5:$AH$137,2,FALSE)) -> 3 | FR7: 鷞鳥騎下 | FS7: 呂約甫 黃凱煒 張均銘 | FU7: =RANK(FT7,$FT$5:$FT$133) -> #N/A
FQ8: =IF(FS8="","",VLOOKUP(FS8,[1]選手名冊!$AG$5:$AH$137,2,FALSE)) -> 4 | FR8: 闇魔陰帝 | FS8: 曾誌弘 凃博荃 張峻豪 | FU8: =RANK(FT8,$FT$5:$FT$133) -> #N/A
FQ9: =IF(FS9="","",VLOOKUP(FS9,[1]選手名冊!$AG$5:$AH$137,2,FALSE)) -> 0 | FR9: 凱蒂貓 | FS9: 陳建廷 施名彬 鄭家沅 | FU9: =RANK(FT9,$FT$5:$FT$133) -> #N/A
FQ10: =IF(FS10="","",VLOOKUP(FS10,[1]選手名冊!$AG$5:$AH$137,2,FALSE)) -> 0 | FR10: 凱蒂狗 | FS10: 莊翔昀 曾士齊 王勝佑 | FU10: =RANK(FT10,$FT$5:$FT$133) -> #N/A
FQ11: =IF(FS11="","",VLOOKUP(FS11,[1]選手名冊!$AG$5:$AH$137,2,FALSE)) -> 0 | FR11: 溪湖慧 | FS11: 吳杰恩 林政辛 施奕辰 | FU11: =RANK(FT11,$FT$5:$FT$133) -> #N/A
FQ12: =IF(FS12="","",VLOOKUP(FS12,[1]選手名冊!$AG$5:$AH$137,2,FALSE)) -> 0 | FR12: 都是我不 | FS12: 胡皓譯 方立文 王士源 | FU12: =RANK(FT12,$FT$5:$FT$133) -> #N/A
FQ13: =IF(FS13="","",VLOOKUP(FS13,[1]選手名冊!$AG$5:$AH$137,2,FALSE)) -> 0 | FR13: 宇騰勝利 | FS13: 劉家榮 李承育 黃勝瓏 | FU13: =RANK(FT13,$FT$5:$FT$133) -> #N/A
FQ14: =IF(FS14="","",VLOOKUP(FS14,[1]選手名冊!$AG$5:$AH$137,2,FALSE)) -> 0 | FR14: 俞靜讚 | FS14: 宋品諺 李建偉 莊仕宇 | FU14: =RANK(FT14,$FT$5:$FT$133) -> #N/A
FQ15: =IF(FS15="","",VLOOKUP(FS15,[1]選手名冊!$AG$5:$AH$137,2,FALSE)) -> 0 | FR15: 好玩就好 | FS15: 廖祥宏 莊詠翔 陳泓瑋 | FU15: =RANK(FT15,$FT$5:$FT$133) -> #N/A
FQ16: =IF(FS16="","",VLOOKUP(FS16,[1]選手名冊!$AG$5:$AH$137,2,FALSE)) -> 0 | FR16: 蒙古烤肉 | FS16: 李品翰 陳岩芃 李祥豪 | FU16: =RANK(FT16,$FT$5:$FT$133) -> #N/A
FQ17: =IF(FS17="","",VLOOKUP(FS17,[1]選手名冊!$AG$5:$AH$137,2,FALSE)) -> 0 | FR17: 一帆數學 | FS17: 王昱程 周冠銘 陳柏維 | FU17: =RANK(FT17,$FT$5:$FT$133) -> #N/A
FQ18: =IF(FS18="","",VLOOKUP(FS18,[1]選手名冊!$AG$5:$AH$137,2,FALSE)) -> 0 | FR18: 三上悠亞 | FS18: 林均諺 游勝富 許津銘 | FU18: =RANK(FT18,$FT$5:$FT$133) -> #N/A
... FQ20: =IF(FS20="","",VLOOKUP(FS20,[1]選手名冊!$AG$5:$AH$137,2,FALSE)) -> 0 | FR20: 六九魔王 | FS20: 呂竣傑 劉建良 林奕全 | FU20: =RANK(FT20,$FT$5:$FT$133) -> #N/A
FQ21: =IF(FS21="","",VLOOKUP(FS21,[1]選手名冊!$AG$5:$AH$137,2,FALSE)) -> 0 | FR21: 鋼彈吊單槓 | FS21: 謝宜展 謝光明 林伯儒
FQ22: =IF(FS22="","",VLOOKUP(FS22,[1]選手名冊!$AG$5:$AH$137,2,FALSE))
FQ23: =IF(FS23="","",VLOOKUP(FS23,[1]選手名冊!$AG$5:$AH$137,2,FALSE))
C24: 行雲流水 | G24: 鋼彈吊單槓 | I24: 六九魔王 | K24: 宇騰勝利 | Q24: 都是我不 | S24: 凱蒂貓 | Y24: 蒙古烤肉 | AA24: 一帆數學 | AG24: 檸檬紅茶 | AI24: 鷞鳥騎下 | AO24: 三上悠亞 | AQ24: 好玩就好 | AW24: 凱蒂狗 | AY24: 溪湖慧 | BE24: 俞靜讚 | BG24: 大陰帝國 | BM24: 統一發票 | FQ24: =IF(FS24="","",VLOOKUP(FS24,[1]選手名冊!$AG$5:$AH$137,2,FALSE))
C25: 廖泊瑄 池育瑋 黃國晉 | G25: 謝宜展 謝光明 林伯儒 | I25: 呂竣傑 劉建良 林奕全 | K25: 劉家榮 李承育 黃勝瓏 | Q25: 胡皓譯 方立文 王士源 | S25: 陳建廷 施名彬 鄭家沅 | Y25: 李品翰 陳岩芃 李祥豪 | AA25: 王昱程 周冠銘 陳柏維 | AG25: 曾誌弘 凃博荃 張峻豪 | AI25: 呂約甫 黃凱煒 張均銘 | AO25: 林均諺 游勝富 許津銘 | AQ25: 廖祥宏 莊詠翔 陳泓瑋 | AW25: 莊翔昀 曾士齊 王勝佑 | AY25: 吳杰恩 林政辛 施奕辰 | BE25: 宋品諺 李建偉 莊仕宇 | BG25: 陳品源 黃昱錚 林建成 | BM25: 黃子錡 施佑委 魏辰安 | FQ25: =IF(FS25="","",VLOOKUP(FS25,[1]選手名冊!$AG$5:$AH$137,2,FALSE))
I26: 2 | AG26: 3 | AI26: 1 | BM26: 4 | FQ26: =IF(FS26="","",VLOOKUP(FS26,[1]選手名冊!$AG$5:$AH$137,2,FALSE))
FQ27: =IF(FS27="","",VLOOKUP(FS27,[1]選手名冊!$AG$5:$AH$137,2,FALSE))
FQ28: =IF(FS28="","",VLOOKUP(FS28,[1]選手名冊!$AG$5:$AH$137,2,FALSE))
FQ29: =IF(FS29="","",VLOOKUP(FS29,[1]選手名冊!$AG$5:$AH$137,2,FALSE))
FQ30: =IF(FS30="","",VLOOKUP(FS30,[1]選手名冊!$AG$5:$AH$137,2,FALSE))
FQ31: =IF(FS31="","",VLOOKUP(FS31,[1]選手名冊!$AG$5:$AH$137,2,FALSE))
FQ32: =IF(FS32="","",VLOOKUP(FS32,[1]選手名冊!$AG$5:$AH$137,2,FALSE))
FQ33: =IF(FS33="","",VLOOKUP(FS33,[1]選手名冊!$AG$5:$AH$137,2,FALSE))
FQ34: =IF(FS34="","",VLOOKUP(FS34,[1]選手名冊!$AG$5:$AH$137,2,FALSE))
FQ35: =IF(FS35="","",VLOOKUP(FS35,[1]選手名冊!$AG$5:$AH$137,2,FALSE))
FQ36: =IF(FS36="","",VLOOKUP(FS36,[1]選手名冊!$AG$5:$AH$137,2,FALSE))
FQ37: =IF(FS37="","",VLOOKUP(FS37,[1]選手名冊!$AG$5:$AH$137,2,FALSE))
FQ38: =IF(FS38="","",VLOOKUP(FS38,[1]選手名冊!$AG$5:$AH$137,2,FALSE))
... FQ136: =IF(FS136="","",VLOOKUP(FS136,[1]選手名冊!$AG$5:$AH$137,2,FALSE))
FQ137: =IF(FS137="","",VLOOKUP(FS137,[1]選手名冊!$C$5:$D$137,2,FALSE))
FQ138: =IF(FS138="","",VLOOKUP(FS138,[1]選手名冊!$C$5:$D$137,2,FALSE))
FQ139: =IF(FS139="","",VLOOKUP(FS139,[1]選手名冊!$C$5:$D$137,2,FALSE))
FQ140: =IF(FS140="","",VLOOKUP(FS140,[1]選手名冊!$C$5:$D$137,2,FALSE))
FQ141: =IF(FS141="","",VLOOKUP(FS141,[1]選手名冊!$C$5:$D$137,2,FALSE))
FQ142: =IF(FS142="","",VLOOKUP(FS142,[1]選手名冊!$C$5:$D$137,2,FALSE))
FQ143: =IF(FS143="","",VLOOKUP(FS143,[1]選手名冊!$C$5:$D$137,2,FALSE))
FQ144: =IF(FS144="","",VLOOKUP(FS144,[1]選手名冊!$C$5:$D$137,2,FALSE))
FQ145: =IF(FS145="","",VLOOKUP(FS145,[1]選手名冊!$C$5:$D$137,2,FALSE))
C323: 1 | E323: 32 | G323: 17 | I323: 16 | K323: 9 | M323: 24 | O323: 25 | Q323: 8 | S323: 5 | U323: 28 | W323: 21 | Y323: 12 | AA323: 13 | AC323: 20 | AE323: 29 | AG323: 4 | AI323: 3 | AK323: 30 | AM323: 19 | AO323: 14 | AQ323: 11 | AS323: 22 | AU323: 27 | AW323: 6 | AY323: 7 | BA323: 26 | BC323: 23 | BE323: 10 | BG323: 15 | BI323: 18 | BK323: 31 | BM323: 2
C324: 1 | E324: 128 | G324: 65 | I324: 64 | K324: 33 | M324: 96 | O324: 97 | Q324: 32 | S324: 17 | U324: 112 | W324: 81 | Y324: 48 | AA324: 49 | AC324: 80 | AE324: 113 | AG324: 16 | AI324: 9 | AK324: 120 | AM324: 73 | AO324: 56 | AQ324: 41 | AS324: 88 | AU324: 105 | AW324: 24 | AY324: 25 | BA324: 104 | BC324: 89 | BE324: 40 | BG324: 57 | BI324: 72 | BK324: 121 | BM324: 8 | BO324: 5 | BQ324: 124 | BS324: 69 | BU324: 60 | BW324: 37 | BY324: 92 | CA324: 101 | CC324: 28 | CE324: 21 | CG324: 108 | CI324: 85 | CK324: 44 | CM324: 53 | CO324: 76 | CQ324: 117 | CS324: 12 | CU324: 13 | CW324: 116 | CY324: 77 | DA324: 52 | DC324: 45 | DE324: 84 | DG324: 109 | DI324: 20 | DK324: 29 | DM324: 100 | DO324: 93 | DQ324: 36 | DS324: 61 | DU324: 68 | DW324: 125 | DY324: 4
C325: 2 | E325: 127 | G325: 66 | I325: 63 | K325: 34 | M325: 95 | O325: 98 | Q325: 31 | S325: 18 | U325: 111 | W325: 82 | Y325: 47 | AA325: 50 | AC325: 79 | AE325: 114 | AG325: 15 | AI325: 10 | AK325: 119 | AM325: 74 | AO325: 55 | AQ325: 42 | AS325: 87 | AU325: 106 | AW325: 23 | AY325: 26 | BA325: 103 | BC325: 90 | BE325: 39 | BG325: 58 | BI325: 71 | BK325: 122 | BM325: 7 | BO325: 6 | BQ325: 123 | BS325: 70 | BU325: 59 | BW325: 38 | BY325: 91 | CA325: 102 | CC325: 27 | CE325: 22 | CG325: 107 | CI325: 86 | CK325: 43 | CM325: 54 | CO325: 75 | CQ325: 118 | CS325: 11 | CU325: 14 | CW325: 115 | CY325: 78 | DA325: 51 | DC325: 46 | DE325: 83 | DG325: 110 | DI325: 19 | DK325: 30 | DM325: 99 | DO325: 94 | DQ325: 35 | DS325: 62 | DU325: 67 | DW325: 126 | DY325: 3
C327: 1 | E327: 16 | G327: 9 | I327: 8 | K327: 5 | M327: 12 | O327: 13 | Q327: 4 | S327: 3 | U327: 14 | W327: 11 | Y327: 6 | AA327: 7 | AC327: 10 | AE327: 15 | AG327: 2
C328: 1 | E328: 64 | G328: 33 | I328: 32 | K328: 17 | M328: 48 | O328: 49 | Q328: 16 | S328: 9 | U328: 56 | W328: 41 | Y328: 24 | AA328: 25 | AC328: 40 | AE328: 57 | AG328: 8 | AI328: 5 | AK328: 60 | AM328: 37 | AO328: 28 | AQ328: 21 | AS328: 44 | AU328: 53 | AW328: 12 | AY328: 13 | BA328: 52 | BC328: 45 | BE328: 20 | BG328: 29 | BI328: 36 | BK328: 61 | BM328: 4 | BO328: 3 | BQ328: 62 | BS328: 35 | BU328: 30 | BW328: 19 | BY328: 46 | CA328: 51 | CC328: 14 | CE328: 11 | CG328: 54 | CI328: 43 | CK328: 22 | CM328: 27 | CO328: 38 | CQ328: 59 | CS328: 6 | CU328: 7 | CW328: 58 | CY328: 39 | DA328: 26 | DC328: 23 | DE328: 42 | DG328: 55 | DI328: 10 | DK328: 15 | DM328: 50 | DO328: 47 | DQ328: 18 | DS328: 31 | DU328: 34 | DW328: 63 | DY328: 2
